Workbook

Sheet CUSTO (COM VALORES)
B1: PLANILHA ORÇAMENTÁRIA
B2: 1 - As informações mínimas que deverão constar da planilha são: Numeração do Item, Discriminação, Unidade, Quantidade, Custo Unitário do material, Custo Unitário de Mão de Obra, Custo total do Material por item, Custo total de Mão de Obra por Item, Subtotais de Material, subtotais de Mão de Obra, Total Geral de Material, Total Geral de Mão de Obra e Total Geral do Orçamento. 2 - A Planilha orçamentária abaixo deverá ser apresentada utilizando papel timbrado da empresa; 3 - Os Valores constantes na planilha deverão ser o valores de mercado, sem a aplicação do BDI; 4 - O BDI deverá estar destacado ao final da tabela, com o preenchimento dos campos específicos, conforme abaixo. A composição do BDI aplicado deverá ser detalhada. 5 - Os itens elencados abaixo são referentes a obra ora em licitação, e servirão de referências para cotação. Alterações nos itens e quantidades, somente poderão ocorrer com autorização da Comissão Permanente de Licitação. Manutenção Predial Sesc Mafra
A3: CÓDIGO | B3: CÓDIGO COMPOSIÇÃO | C3: Descrição | D3: Unidade | E3: Quantidade orçada | F3: Preço total por grupo
F4: Materiais | H4: Mão de Obra | J4: Preço total
F5: Unitário | G5: Total | H5: Unitário | I5: Total | J5: Unitário | K5: Total
A6: 01 | C6: COBERTURA | G6: =G7 -> 15500.029 | I6: =I7 -> 28405.503 | K6: =K7 -> 43905.532
A7: 01.001 | C7: COBERTURA | G7: =G8+G11+G14 -> 15500.029 | I7: =I8+I11+I14 -> 28405.503 | K7: =K8+K11+K14 -> 43905.532
A8: 01.001.001 | C8: TELHADOS | G8: =G9+G10 -> 4238.737 | I8: =I9+I10 -> 25344.472 | K8: =K9+K10 -> 29583.209
A9: 01.001.001.001 | B9: 80000 | C9: SUBSTITUIÇÃO DE PARAFUSOS METÁLICOS | D9: m2 | E9: 1137.78 | F9: 3.15 | G9: =F9*E9 -> 3584.007 | H9: 20.936 | I9: =H9*E9 -> 23820.562 | J9: =H9+F9 -> 24.086 | K9: =I9+G9 -> 27404.569
A10: 01.001.001.002 | B10: 80002 | C10: APLICAÇÃO DE SELANTE EM RUFOS E PARAFUSOS | D10: m | E10: 100 | F10: 6.5473 | G10: =F10*E10 -> 654.73 | H10: 15.2391 | I10: =H10*E10 -> 1523.91 | J10: =H10+F10 -> 21.7864 | K10: =I10+G10 -> 2178.64
A11: 01.001.002 | C11: CALHAS | G11: =G12+G13 -> 9324.3156 | I11: =I12+I13 -> 2218.0092 | K11: =K12+K13 -> 11542.325
A12: 01.001.002.001 | B12: 10509 (SINAPI) | C12: CALHA EM CHAPA DE AÇO GALVANIZADO NÚMERO 24, DESENVOLVIMENTO DE 50 CM, INCLUSO TRANSPORTE VERTICAL. AF_07/2019 | D12: m | E12: 120 | F12: 77.0479 | G12: =F12*E12 -> 9245.748 | H12: 16.9595 | I12: =H12*E12 -> 2035.14 | J12: =H12+F12 -> 94.0074 | K12: =I12+G12 -> 11280.888
A13: 01.001.002.002 | B13: 80002 | C13: APLICAÇÃO DE SELANTE EM RUFOS E PARAFUSOS | D13: m | E13: 12 | F13: 6.5473 | G13: =F13*E13 -> 78.5676 | H13: 15.2391 | I13: =H13*E13 -> 182.8692 | J13: =H13+F13 -> 21.7864 | K13: =I13+G13 -> 261.4368
A14: 01.001.003 | C14: RUFOS | G14: =G15+G16+G17 -> 1936.9761 | I14: =I15+I16+I17 -> 843.02188 | K14: =K15+K16+K17 -> 2779.998
A15: 01.001.003.001 | B15: 80001 | C15: RETIRADA RUFOS METALICOS EM COBERTURA | D15: m | E15: 15 | G15: =F15*E15 -> 0 | H15: 19.5776 | I15: =H15*E15 -> 293.664 | J15: =H15+F15 -> 19.5776 | K15: =I15+G15 -> 293.664
A16: 01.001.003.002 | B16: 80002 | C16: APLICAÇÃO DE SELANTE EM RUFOS E PARAFUSOS | D16: m | E16: 12 | F16: 6.5473 | G16: =F16*E16 -> 78.5676 | H16: 15.2391 | I16: =H16*E16 -> 182.8692 | J16: =H16+F16 -> 21.7864 | K16: =I16+G16 -> 261.4368
A17: 01.001.003.003 | B17: 5074 (SINAPI) | C17: RUFO EXTERNO/INTERNO EM CHAPA DE AÇO GALVANIZADO NÚMERO 26, CORTE DE 33 CM, INCLUSO IÇAMENTO. AF_07/2019 | D17: m | E17: 35.74 | F17: 51.998 | G17: =F17*E17 -> 1858.4085 | H17: 10.2543 | I17: =H17*E17 -> 366.48868 | J17: =H17+F17 -> 62.2523 | K17: =I17+G17 -> 2224.8972
A18: 02 | C18: FACHADAS | G18: =G19 -> 115776.07 | I18: =I19 -> 39504.528 | K18: =K19 -> 155280.6
A19: 02.001 | C19: FACHADAS | G19: =G20+G26+G29+G32 -> 115776.07 | I19: =I20+I26+I29+I32 -> 39504.528 | K19: =K20+K26+K29+K32 -> 155280.6
A20: 02.001.001 | C20: REVESTIMENTO ARGAMASSADO | G20: =G21+G22+G23+G24+G25 -> 18405.722 | I20: =I21+I22+I23+I24+I25 -> 18367.315 | K20: =K21+K22+K23+K24+K25 -> 36773.038
A21: 02.001.001.001 | B21: 8155 (SINAPI) | C21: APLICAÇÃO MANUAL DE FUNDO SELADOR ACRÍLICO EM PANOS CEGOS DE FACHADA (SEM PRESENÇA DE VÃOS) DE EDIFÍCIOS DE MÚLTIPLOS PAVIMENTOS. AF_06/2014 | D21: m2 | E21: 923.76 | F21: 1.3248 | G21: =F21*E21 -> 1223.7972 | H21: 0.9101 | I21: =H21*E21 -> 840.71398 | J21: =H21+F21 -> 2.2349 | K21: =I21+G21 -> 2064.5112
A22: 02.001.001.002 | B22: 8192 (SINAPI) | C22: APLICAÇÃO MANUAL DE PINTURA COM TINTA LÁTEX ACRÍLICA EM PAREDES, DUAS DEMÃOS. AF_06/2014 | D22: m2 | E22: 923.76 | F22: 8.6658 | G22: =F22*E22 -> 8005.1194 | H22: 7.3263 | I22: =H22*E22 -> 6767.7429 | J22: =H22+F22 -> 15.9921 | K22: =I22+G22 -> 14772.862
A23: 02.001.001.003 | B23: 10886 (SINAPI) | C23: TEXTURA ACRÍLICA, APLICAÇÃO MANUAL EM PAREDE, UMA DEMÃO. AF_09/2016 | D23: m2 | E23: 923.76 | F23: 7.1364 | G23: =F23*E23 -> 6592.3209 | H23: 7.3575 | I23: =H23*E23 -> 6796.5642 | J23: =H23+F23 -> 14.4939 | K23: =I23+G23 -> 13388.885
A24: 02.001.001.004 | B24: 80009 | C24: TRATAMENTO DE FISSURAS E TRINCAS | D24: m | E24: 57 | F24: 16.0047 | G24: =F24*E24 -> 912.2679 | H24: 27.7399 | I24: =H24*E24 -> 1581.1743 | J24: =H24+F24 -> 43.7446 | K24: =I24+G24 -> 2493.4422
A25: 02.001.001.005 | B25: 12236 (SINAPI) | C25: TRATAMENTO DE JUNTA DE DILATAÇÃO, COM TARUGO DE POLIETILENO E SELANTE PU, INCLUSO PREENCHIMENTO COM ESPUMA EXPANSIVA PU. AF_06/2018 | D25: m | E25: 36.1 | F25: 46.3218 | G25: =F25*E25 -> 1672.217 | H25: 65.959 | I25: =H25*E25 -> 2381.1199 | J25: =H25+F25 -> 112.2808 | K25: =I25+G25 -> 4053.3369
A26: 02.001.002 | C26: ELEMENTOS EM MADEIRA | G26: =G27+G28 -> 96373.578 | I26: =I27+I28 -> 19786.059 | K26: =K27+K28 -> 116159.64
A27: 02.001.002.001 | B27: 11889 | C27: REMOÇÃO DE TAPUME/ CHAPAS METÁLICAS E DE MADEIRA, DE FORMA MANUAL, SEM REAPROVEITAMENTO. AF_12/2017 | D27: m2 | E27: 376.68 | G27: =F27*E27 -> 0 | H27: 2.7375 | I27: =H27*E27 -> 1031.1615 | J27: =H27+F27 -> 2.7375 | K27: =I27+G27 -> 1031.1615
A28: 02.001.002.002 | B28: 80025 | C28: PAINEL ALUMINIO COMPOSTO (ACM) E=3mm 1,22X2,50m | D28: m2 | E28: 376.68 | F28: 255.85 | G28: =F28*E28 -> 96373.578 | H28: 49.79 | I28: =H28*E28 -> 18754.897 | J28: =H28+F28 -> 305.64 | K28: =I28+G28 -> 115128.48
A29: .02.001.003 | C29: ELEMENTOS EM CONCRETO | G29: =G30+G31 -> 950.58 | I29: =I30+I31 -> 251.88 | K29: =K30+K31 -> 1202.46
A30: .02.001.003.001 | B30: 800020 | C30: APLICAÇÃO DE COMPONENTE ANTICORROSIVO NA SUPERFÍCIE DE AÇO LIMPO | D30: m2 | E30: 3 | F30: 6.9 | G30: =F30*E30 -> 20.7 | H30: 2.45 | I30: =H30*E30 -> 7.35 | J30: =H30+F30 -> 9.35 | K30: =I30+G30 -> 28.05
A31: .02.001.003.002 | B31: 800021 | C31: REPARO ESTRUTURAL EM ESTRUTURAS DE CONCRETO COM ARGAMASSA POLIMÉRICA DE ALTO DESEMPENHO, E=2CM | D31: m2 | E31: 3 | F31: 309.96 | G31: =F31*E31 -> 929.88 | H31: 81.51 | I31: =H31*E31 -> 244.53 | J31: =H31+F31 -> 391.47 | K31: =I31+G31 -> 1174.41
A32: .02.001.004 | C32: HIDROJATEAMENTO | G32: =G33 -> 46.188 | I32: =I33 -> 1099.2744 | K32: =K33 -> 1145.4624
A33: .02.001.004.001 | B33: 12417 (SINAPI) | C33: LIMPEZA DE SUPERFÍCIE COM JATO DE ALTA PRESSÃO. AF_04/2019 | D33: m2 | E33: 923.76 | F33: 0.05 | G33: =F33*E33 -> 46.188 | H33: 1.19 | I33: =H33*E33 -> 1099.2744 | J33: =H33+F33 -> 1.24 | K33: =I33+G33 -> 1145.4624
A34: 03 | C34: ÁREAS EXTERNAS | G34: =G35+G50+G61+G65 -> 46886.33 | I34: =I35+I50+I61+I65 -> 42646.859 | K34: =K35+K50+K61+K65 -> 91556.408
A35: 03.001 | C35: ÁREAS EXTERNAS | G35: =G36+G42+G39+G44+G48 -> 4164.5914 | I35: =I36+I42+I39+I44+I48 -> 18196.428 | K35: =K36+K42+K39+K44+K48 -> 24384.24
A36: 03.001.002 | C36: REVESTIMENTO CERÂMICO | G36: =G37+G38 -> 347.356 | I36: =I37+I38+I39+I40+I41 -> 10767.994 | K36: =K37+K38+K39+K40+K41 -> 13138.57
A37: 03.001.002.001 | B37: 80005 | C37: RETIRADA DE REVESTIMENTO DE PISO CERAMICO | D37: m2 | E37: 5 | G37: =F37*E37 -> 0 | H37: 86.9917 | I37: =H37*E37 -> 434.9585 | J37: =H37+F37 -> 86.9917 | K37: =I37+G37 -> 434.9585
A38: 03.001.002.002 | B38: 7736 (SINAPI) | C38: REVESTIMENTO CERÂMICO PARA PISO COM PLACAS TIPO ESMALTADA EXTRA DE DIMENSÕES 60X60 CM APLICADA EM AMBIENTES DE ÁREA MENOR QUE 5 M2. AF_06/2014 | D38: m2 | E38: 5 | F38: 69.4712 | G38: =F38*E38 -> 347.356 | H38: 36.2545 | I38: =H38*E38 -> 181.2725 | J38: =H38+F38 -> 105.7257 | K38: =I38+G38 -> 528.6285
A39: 03.001.003 | C39: PAVIMENTAÇÃO EM PAVER | G39: =G40+G41 -> 1011.6102 | I39: =I40+I41 -> 5075.8814 | K39: =K40+K41 -> 6087.4916
A40: 03.001.003.001 | B40: 80003 | C40: HIDROJATEAMENTO (ÁREA INTERNA DO TERRENO, PÁTIO COBERTO E CALÇAMENTO EXTERNA QUE CIRCUNDA AO TERRENO) | D40: m2 | E40: 556.01 | F40: 0.3773 | G40: =F40*E40 -> 209.78257 | H40: 4.1666 | I40: =H40*E40 -> 2316.6713 | J40: =H40+F40 -> 4.5439 | K40: =I40+G40 -> 2526.4538
...

Sheet Cronograma FF (COM VALORES)
B2: CRONOGRAMA FINANCEIRO
A4: OBSERVAÇÕES:
B5: 1 - As informações mínimas que deverão constar no Cronograma Físico Financeiro são: - Valor e percentual
B6: de material e mão de obra referente a cada parcela, valor total da parcela, valor de material por parcela,
B7: valor de mão de obra por parcela, percentual referente a cada parcela em relação ao custo da Obra.
B8: 2 - O Cronograma acima deverá ser apresentado utilizando papel timbrado da empresa;
B9: 3 - Os itens elencados acima são referentes a obra ora em licitação, e servirão de referências para cotação.
B12: CRONOGRAMA FÍSICO-FINANCEIRO - MODELO
H13: PARCELA 01 | L13: PARCELA 02 | P13: PARCELA 03 | T13: PARCELA 04 | X13: PARCELA 05
G14: MATERIAL | I14: MÃO DE OBRA | K14: MATERIAL | M14: MÃO DE OBRA | O14: MATERIAL | Q14: MÃO DE OBRA | S14: MATERIAL | U14: MÃO DE OBRA | W14: MATERIAL | Y14: MÃO DE OBRA
A15: ITEM | B15: DISCRIMINAÇÃO | C15: MATER. TOTAL (R$) | D15: M.D.O. TOTAL (R$) | E15: TOTAL ÍTEM (R$) | F15: % | G15: (R$) | H15: % | I15: (R$) | J15: % | K15: (R$) | L15: % | M15: (R$) | N15: % | O15: (R$) | P15: % | Q15: (R$) | R15: % | S15: (R$) | T15: % | U15: (R$) | V15: % | W15: (R$) | X15: % | Y15: (R$) | Z15: %
A16: A | B16: PRÉDIO PRINCIPAL
A17: 1 | B17: ='CUSTO (COM VALORES)'!C6 -> COBERTURA | C17: ='CUSTO (COM VALORES)'!G6 -> 15500.029 | D17: ='CUSTO (COM VALORES)'!I6 -> 28405.503 | E17: =C17+D17 -> 43905.532 | F17: =(E17/E$26)*100 -> 6.1122065 | G17: =C17*H17 -> 0 | I17: =D17*J17 -> 0 | K17: =C17*L17 -> 0 | M17: =D17*N17 -> 0 | O17: =G17*P17 -> 0 | Q17: =H17*R17 -> 0 | S17: =K17*T17 -> 0 | U17: =L17*V17 -> 0 | W17: =O17*X17 -> 0 | Y17: =P17*Z17 -> 0
A18: 2 | B18: ='CUSTO (COM VALORES)'!C18 -> FACHADAS | C18: ='CUSTO (COM VALORES)'!G18 -> 115776.07 | D18: ='CUSTO (COM VALORES)'!I18 -> 39504.528 | E18: =C18+D18 -> 155280.6 | F18: =(E18/E$26)*100 -> 21.617027 | G18: =C18*H18 -> 0 | I18: =D18*J18 -> 0 | K18: =C18*L18 -> 0 | M18: =D18*N18 -> 0 | O18: =G18*P18 -> 0 | Q18: =H18*R18 -> 0 | S18: =K18*T18 -> 0 | U18: =L18*V18 -> 0 | W18: =O18*X18 -> 0 | Y18: =P18*Z18 -> 0
A19: 3 | B19: ='CUSTO (COM VALORES)'!C34 -> ÁREAS EXTERNAS | C19: ='CUSTO (COM VALORES)'!G34 -> 46886.33 | D19: ='CUSTO (COM VALORES)'!I34 -> 42646.859 | E19: =C19+D19 -> 89533.188 | F19: =(E19/E$26)*100 -> 12.464155 | G19: =C19*H19 -> 0 | I19: =D19*J19 -> 0 | K19: =C19*L19 -> 0 | M19: =D19*N19 -> 0 | O19: =G19*P19 -> 0 | Q19: =H19*R19 -> 0 | S19: =K19*T19 -> 0 | U19: =L19*V19 -> 0 | W19: =O19*X19 -> 0 | Y19: =P19*Z19 -> 0
A20: 4 | B20: ='CUSTO (COM VALORES)'!C69 -> ÁREAS INTERNAS (SUBSOLO) | C20: ='CUSTO (COM VALORES)'!G69 -> 23429.001 | D20: ='CUSTO (COM VALORES)'!I69 -> 16218.192 | E20: =C20+D20 -> 39647.193 | F20: =(E20/E$26)*100 -> 5.5193917 | G20: =C20*H20 -> 0 | I20: =D20*J20 -> 0 | K20: =C20*L20 -> 0 | M20: =D20*N20 -> 0 | O20: =G20*P20 -> 0 | Q20: =H20*R20 -> 0 | S20: =K20*T20 -> 0 | U20: =L20*V20 -> 0 | W20: =O20*X20 -> 0 | Y20: =P20*Z20 -> 0
A21: 5 | B21: ='CUSTO (COM VALORES)'!C179 -> ÁREA INTERNA (TÉRREO) | C21: ='CUSTO (COM VALORES)'!G179 -> 138405.79 | D21: ='CUSTO (COM VALORES)'!I179 -> 33018.409 | E21: =C21+D21 -> 171424.19 | F21: =(E21/E$26)*100 -> 23.864421 | G21: =C21*H21 -> 0 | I21: =D21*J21 -> 0 | K21: =C21*L21 -> 0 | M21: =D21*N21 -> 0 | O21: =G21*P21 -> 0 | Q21: =H21*R21 -> 0 | S21: =K21*T21 -> 0 | U21: =L21*V21 -> 0 | W21: =O21*X21 -> 0 | Y21: =P21*Z21 -> 0
A22: 6 | B22: ='CUSTO (COM VALORES)'!C280 -> ÁREAS INTERNAS (MEZANINO) | C22: ='CUSTO (COM VALORES)'!G280 -> 1607.4273 | D22: ='CUSTO (COM VALORES)'!I280 -> 2169.9235 | E22: =C22+D22 -> 3777.3508 | F22: =(E22/E$26)*100 -> 0.52585511 | G22: =C22*H22 -> 0 | I22: =D22*J22 -> 0 | K22: =C22*L22 -> 0 | M22: =D22*N22 -> 0 | O22: =G22*P22 -> 0 | Q22: =H22*R22 -> 0 | S22: =K22*T22 -> 0 | U22: =L22*V22 -> 0 | W22: =O22*X22 -> 0 | Y22: =P22*Z22 -> 0
A23: 7 | B23: ='CUSTO (COM VALORES)'!C293 -> ESTRUTURA SUBSOLO | C23: ='CUSTO (COM VALORES)'!G293 -> 4043.5605 | D23: ='CUSTO (COM VALORES)'!I293 -> 13199.611 | E23: =C23+D23 -> 17243.171 | F23: =(E23/E$26)*100 -> 2.400468 | G23: =C23*H23 -> 0 | I23: =D23*J23 -> 0 | K23: =C23*L23 -> 0 | M23: =D23*N23 -> 0 | O23: =G23*P23 -> 0 | Q23: =H23*R23 -> 0 | S23: =K23*T23 -> 0 | U23: =L23*V23 -> 0 | W23: =O23*X23 -> 0 | Y23: =P23*Z23 -> 0
A24: 8 | B24: ='CUSTO (COM VALORES)'!C300 -> ADMINISTRAÇÃO DE OBRA | C24: ='CUSTO (COM VALORES)'!G300 -> 50940.886 | D24: ='CUSTO (COM VALORES)'!I300 -> 146573.29 | E24: =C24+D24 -> 197514.17 | F24: =(E24/E$26)*100 -> 27.496476 | G24: =C24*H24 -> 0 | I24: =D24*J24 -> 0 | K24: =C24*L24 -> 0 | M24: =D24*N24 -> 0 | O24: =G24*P24 -> 0 | Q24: =H24*R24 -> 0 | S24: =K24*T24 -> 0 | U24: =L24*V24 -> 0 | W24: =O24*X24 -> 0 | Y24: =P24*Z24 -> 0
B26: VALOR TOTAL DO ORÇAMENTO | C26: =SUM(C17:C24) -> 396589.09 | D26: =SUM(D17:D24) -> 321736.31 | E26: =SUM(E17:E24) -> 718325.4 | F26: =SUM(F17:F24) -> 100
B28: VALOR TOTAL MATERIAL (Custo de mercado) | G28: =SUM(G17:G24) -> 0 | H28: =G28/C26 -> 0 | K28: =SUM(K17:K24) -> 0 | L28: =K28/C26 -> 0 | O28: =SUM(O17:O24) -> 0 | P28: =O28/G26 -> #DIV/0! | S28: =SUM(S17:S24) -> 0 | T28: =S28/K26 -> #DIV/0! | W28: =SUM(W17:W24) -> 0 | X28: =W28/O26 -> #DIV/0!
B29: VALOR TOTAL MÃO DE OBRA (Custo de mercado) | I29: =SUM(I17:I24) -> 0 | J29: =I29/D26 -> 0 | M29: =SUM(M17:M24) -> 0 | N29: =M29/D26 -> 0 | Q29: =SUM(Q17:Q24) -> 0 | R29: =Q29/H26 -> #DIV/0! | U29: =SUM(U17:U24) -> 0 | V29: =U29/L26 -> #DIV/0! | Y29: =SUM(Y17:Y24) -> 0 | Z29: =Y29/P26 -> #DIV/0!
B31: Valor Total de Material com BDI | C31: =+C26+C26*'CUSTO (COM VALORES)'!D330/100 -> 396589.09 | G31: =+G28+G28*'CUSTO (COM VALORES)'!D330/100 -> 0 | K31: =+K28+K28*'CUSTO (COM VALORES)'!D330/100 -> 0 | O31: =+O28+O28*'CUSTO (COM VALORES)'!D330/100 -> 0 | S31: =+S28+S28*'CUSTO (COM VALORES)'!D330/100 -> 0 | W31: =+W28+W28*'CUSTO (COM VALORES)'!D330/100 -> 0
B32: Valor Total de Mão de Obra com BDI | D32: =+D26+D26*'CUSTO (COM VALORES)'!D330/100 -> 321736.31 | I32: =+I29+I29*'CUSTO (COM VALORES)'!D330/100 -> 0 | M32: =+M29+M29*'CUSTO (COM VALORES)'!D330/100 -> 0 | Q32: =+Q29+Q29*'CUSTO (COM VALORES)'!D330/100 -> 0 | U32: =+U29+U29*'CUSTO (COM VALORES)'!D330/100 -> 0 | Y32: =+Y29+Y29*'CUSTO (COM VALORES)'!D330/100 -> 0
B33: Valor Total do Orçamento | E33: =+E26+E26*'CUSTO (COM VALORES)'!D330/100 -> 718325.4
B35: Valor Total da Parcela/Percentual da Parcela | I35: =G31+I32 -> 0 | J35: =I35/E33 -> 0 | M35: =K31+M32 -> 0 | N35: =M35/E33 -> 0 | Q35: =O31+Q32 -> 0 | R35: =Q35/I33 -> #DIV/0! | U35: =S31+U32 -> 0 | V35: =U35/M33 -> #DIV/0! | Y35: =W31+Y32 -> 0 | Z35: =Y35/Q33 -> #DIV/0!
B36: Valor total Acumulado/Percentual Acumulado | I36: =I35 -> 0 | J36: =J35 -> 0 | M36: =M35+I36 -> 0 | N36: =N35+J36 -> 0 | Q36: =Q35+M36 -> 0 | R36: =R35+N36 -> #DIV/0! | U36: =U35+Q36 -> 0 | V36: =V35+R36 -> #DIV/0! | Y36: =Y35+U36 -> 0 | Z36: =Z35+V36 -> #DIV/0!
B39: Profissional responsável pelo orçamento:
B40: Número de Registro no CREA ou CAU:
B41: Número da ART ou RRT:
E44: Assinatura

Sheet COMPOSIÇÃO
A1: 80000 | B1: SUBSTITUIÇÃO DE PARAFUSOS METÁLICOS
A2: SERVIÇO | B2: CÓDIGO SINAPI | C2: COMPOSIÇÃO | D2: Unidade | E2: Quantidade | F2: Preço Unitário | G2: Total
A3: Material | B3: 227 | C3: HASTE RETA PARA GANCHO DE FERRO GALVANIZADO, COM ROSCA 1/4 " X 30 CM PARA FIXACAO DE TELHA METALICA, INCLUI PORCA E ARRUELAS DE VEDACAO | D3: cj | E3: 1.5 | G3: =F3*E3 -> 0
A4: Serviço | B4: 8063 | C4: AJUDANTE ESPECIALIZADO COM ENCARGOS COMPLEMENTARES | D4: h | E4: 0.4 | G4: =F4*E4 -> 0
A5: Serviço | B5: 8131 | C5: TELHADISTA COM ENCARGOS COMPLEMENTARES | D5: h | E5: 0.4 | G5: =F5*E5 -> 0
F6: Preço Total | G6: =G3+G4+G5 -> 0
A8: 80001 | B8: RETIRADA RUFOS METALICOS EM COBERTURA
A9: SERVIÇO | B9: CÓDIGO SINAPI | C9: COMPOSIÇÃO | D9: Unidade | E9: Quantidade | F9: Preço Unitário | G9: Total
A10: Serviço | B10: 8125 | C10: SERVENTE COM ENCARGOS COMPLEMENTARES | D10: h | E10: 0.581 | G10: =F10*E10 -> 0
A11: Serviço | B11: 8131 | C11: TELHADISTA COM ENCARGOS COMPLEMENTARES | D11: h | E11: 0.242 | G11: =F11*E11 -> 0
F12: Preço Total | G12: =G10+G11 -> 0
A14: 80002 | B14: APLICAÇÃO DE SELANTE EM RUFOS E PARAFUSOS
A15: SERVIÇO | B15: CÓDIGO SINAPI | C15: COMPOSIÇÃO | D15: Unidade | E15: Quantidade | F15: Preço Unitário | G15: Total
A16: Material | B16: 872 | C16: SELANTE ELASTICO MONOCOMPONENTE A BASE DE POLIURETANO (PU) PARA JUNTAS DIVERSAS | D16: 310ml | E16: 0.211 | G16: =F16*E16 -> 0
A17: Serviço | B17: 8125 | C17: SERVENTE COM ENCARGOS COMPLEMENTARES | D17: h | E17: 0.3 | G17: =F17*E17 -> 0
A18: Serviço | B18: 8131 | C18: TELHADISTA COM ENCARGOS COMPLEMENTARES | D18: h | E18: 0.4 | G18: =F18*E18 -> 0
F19: Preço Total | G19: =G16+G17+G18 -> 0
A21: 80009 | B21: TRATAMENTO DE FISSURAS E TRINCAS
A22: SERVIÇO | B22: CÓDIGO SINAPI | C22: COMPOSIÇÃO | D22: Unidade | E22: Quantidade | F22: Preço Unitário | G22: Total
A23: Material | B23: 872 | C23: SELANTE ELASTICO MONOCOMPONENTE A BASE DE POLIURETANO (PU) PARA JUNTAS DIVERSAS | D23: 310ml | E23: 0.2 | G23: =F23*E23 -> 0
A24: Material | B24: 2170 | C24: LIXA EM FOLHA PARA PAREDE OU MADEIRA, NUMERO 120, COR VERMELHA | D24: Unidade | E24: 0.06 | G24: =F24*E24 -> 0
A25: Material | B25: 3303 | C25: VEU POLIESTER | D25: m2 | E25: 0.24 | G25: =F25*E25 -> 0
A26: Material | B26: 3895 | C26: MEMBRANA IMPERMEABILIZANTE ACRILICA MONOCOMPONENTE | D26: kg | E26: 0.24 | G26: =F26*E26 -> 0
A27: Material | B27: 4456 | C27: SELADOR ACRILICO OPACO PREMIUM INTERIOR/EXTERIOR | D27: l | E27: 0.33 | G27: =F27*E27 -> 0
A28: Serviço | B28: 5049 | C28: AJUDANTE DE PINTOR COM ENCARGOS COMPLEMENTARES | D28: h | E28: 0.3 | G28: =F28*E28 -> 0
A29: Serviço | B29: 8119 | C29: PINTOR COM ENCARGOS COMPLEMENTARES | D29: h | E29: 0.4 | G29: =F29*E29 -> 0
F30: Preço Total | G30: =G23+G28+G29+G24+G25+G26+G27 -> 0
A32: 80005 | B32: RETIRADA DE REVESTIMENTO DE PISO CERAMICO
A33: SERVIÇO | B33: CÓDIGO SINAPI | C33: COMPOSIÇÃO | D33: Unidade | E33: Quantidade | F33: Preço Unitário | G33: Total
A34: Serviço | B34: 8118 | C34: PEDREIRO COM ENCARGOS COMPLEMENTARES | D34: h | E34: 1.414 | G34: =F34*E34 -> 0
A35: Serviço | B35: 8125 | C35: SERVENTE COM ENCARGOS COMPLEMENTARES | D35: h | E35: 1.988 | G35: =F35*E35 -> 0
F36: Preço Total | G36: =G34+G35 -> 0
A38: 80003 | B38: HIDROJATEAMENTO
A39: SERVIÇO | B39: CÓDIGO SINAPI | C39: COMPOSIÇÃO | D39: Unidade | E39: Quantidade | F39: Preço Unitário | G39: Total
A40: Material | B40: 12444 | C40: LAVADORA JATO D'ÁGUA DE ALTA PRESSÃO | D40: h | E40: 0.11 | G40: =F40*E40 -> 0
A41: Serviço | B41: 8118 | C41: OPERADOR JATO DE AREIA OU JATISTA COM ENCARGOS COMPLEMENTARES | D41: h | E41: 0.11 | G41: =F41*E41 -> 0
A42: Serviço | B42: 8125 | C42: SERVENTE COM ENCARGOS COMPLEMENTARES | D42: h | E42: 0.005 | G42: =F42*E42 -> 0
F43: Preço Total | G43: =G41+G42+G40 -> 0
A45: 80004 | B45: PISO EM PEÇAS DE CONCRETO APLICADO EM CALÇADAS OU PISOS EXTERNOS
A46: SERVIÇO | B46: CÓDIGO SINAPI | C46: COMPOSIÇÃO | D46: Unidade | E46: Quantidade | F46: Preço Unitário | G46: Total
...
